BEGIN:VCALENDAR
VERSION:2.0
PRODID:-//AMSE//Event Calendar//FR
CALSCALE:GREGORIAN
METHOD:PUBLISH
BEGIN:VEVENT
UID:event-11168@www.amse-aixmarseille.fr
DTSTAMP:20260421T152648Z
CREATED:20260421T152648Z
LAST-MODIFIED:20260421T152648Z
STATUS:CONFIRMED
SEQUENCE:0
SUMMARY:soutenances de thèse - Sarah Vincent
DTSTART:20240705T060000Z
DTEND:20240705T060000Z
DESCRIPTION:Plus d'informations: https://www.amse-aixmarseille.fr/fr/evenem
 ents/sarah-vincent-3
LOCATION:Îlot Bernard du Bois - Amphithéâtre\, AMU - AMSE\, 5-9 boulevar
 d Maurice Bourdet\, 13001 Marseille
URL;VALUE=URI:https://www.amse-aixmarseille.fr/fr/evenements/sarah-vincent-3
TRANSP:OPAQUE
END:VEVENT
END:VCALENDAR
