BEGIN:VCALENDAR
VERSION:2.0
PRODID:-//AMSE//Event Calendar//FR
CALSCALE:GREGORIAN
METHOD:PUBLISH
BEGIN:VEVENT
UID:event-11170@www.amse-aixmarseille.fr
DTSTAMP:20260421T151504Z
CREATED:20260421T151504Z
LAST-MODIFIED:20260421T151504Z
STATUS:CONFIRMED
SEQUENCE:0
SUMMARY:soutenances de thèse - Tizié Bene
DTSTART:20240704T073000Z
DTEND:20240704T073000Z
DESCRIPTION:Plus d'informations: https://www.amse-aixmarseille.fr/fr/evenem
 ents/tizi%C3%A9-bene-3
LOCATION:Îlot Bernard du Bois - Salle 24\, AMU - AMSE\, 5-9 boulevard Maur
 ice Bourdet\, 13001 Marseille
URL;VALUE=URI:https://www.amse-aixmarseille.fr/fr/evenements/tizi%C3%A9-bene-3
TRANSP:OPAQUE
END:VEVENT
END:VCALENDAR
