BEGIN:VCALENDAR
VERSION:2.0
PRODID:-//AMSE//Event Calendar//FR
CALSCALE:GREGORIAN
METHOD:PUBLISH
BEGIN:VEVENT
UID:event-11246@www.amse-aixmarseille.fr
DTSTAMP:20260421T134934Z
CREATED:20260421T134934Z
LAST-MODIFIED:20260421T134934Z
STATUS:CONFIRMED
SEQUENCE:0
SUMMARY:soutenances de thèse - Baptiste Meunier
DTSTART:20240927T123000Z
DTEND:20240927T123000Z
DESCRIPTION:Plus d'informations: https://www.amse-aixmarseille.fr/fr/evenem
 ents/baptiste-meunier-3
LOCATION:MEGA - Salle Carine Nourry\, 424\, Chemin du Viaduc\, 13080 Aix-en
 -Provence
URL;VALUE=URI:https://www.amse-aixmarseille.fr/fr/evenements/baptiste-meunier-3
TRANSP:OPAQUE
END:VEVENT
END:VCALENDAR
