BEGIN:VCALENDAR
VERSION:2.0
PRODID:-//AMSE//Event Calendar//FR
CALSCALE:GREGORIAN
METHOD:PUBLISH
BEGIN:VEVENT
UID:event-11322@www.amse-aixmarseille.fr
DTSTAMP:20260422T000533Z
CREATED:20260422T000533Z
LAST-MODIFIED:20260422T000533Z
STATUS:CONFIRMED
SEQUENCE:0
SUMMARY:Eco-lunch - Anna Maria Pinna
DTSTART:20241128T113000Z
DTEND:20241128T123000Z
DESCRIPTION:\\n\\nContact: Nathalie Ferrière : nathalie.ferriere[at]scien
 cespo-aix.frFederico Trionfetti : federico.trionfetti[at]univ-amu.fr\n\nPl
 us d'informations: https://www.amse-aixmarseille.fr/fr/evenements/anna-mari
 a-pinna
LOCATION:MEGA
URL;VALUE=URI:https://www.amse-aixmarseille.fr/fr/evenements/anna-maria-pinna
CONTACT:Nathalie Ferrière :&nbsp\;nathalie.ferriere[at]sciencespo-aix.frFe
 derico Trionfetti :&nbsp\;federico.trionfetti[at]univ-amu.fr
TRANSP:OPAQUE
END:VEVENT
END:VCALENDAR
