BEGIN:VCALENDAR
VERSION:2.0
PRODID:-//AMSE//Event Calendar//FR
CALSCALE:GREGORIAN
METHOD:PUBLISH
BEGIN:VEVENT
UID:event-11324@www.amse-aixmarseille.fr
DTSTAMP:20260422T145756Z
CREATED:20260422T145756Z
LAST-MODIFIED:20260422T145756Z
STATUS:CONFIRMED
SEQUENCE:0
SUMMARY:Economic theory seminar - Jérémy Laurent-Lucchetti
DTSTART:20240913T100000Z
DTEND:20240913T110000Z
DESCRIPTION:\\n\\nContact: Jiakun Zheng : jiakun.zheng[at]univ-amu.fr\n\nP
 lus d'informations: https://www.amse-aixmarseille.fr/fr/evenements/j%C3%A9r
 %C3%A9my-laurent-lucchetti
LOCATION:Îlot Bernard du Bois - Salle 15\, AMU - AMSE\, 5-9 boulevard Maur
 ice Bourdet\, 13001 Marseille
URL;VALUE=URI:https://www.amse-aixmarseille.fr/fr/evenements/j%C3%A9r%C3%A9my-laurent-lucchetti
CONTACT:Jiakun Zheng :&nbsp\;jiakun.zheng[at]univ-amu.fr
TRANSP:OPAQUE
END:VEVENT
END:VCALENDAR
