BEGIN:VCALENDAR
VERSION:2.0
PRODID:-//AMSE//Event Calendar//FR
CALSCALE:GREGORIAN
METHOD:PUBLISH
BEGIN:VEVENT
UID:event-11330@www.amse-aixmarseille.fr
DTSTAMP:20260422T145914Z
CREATED:20260422T145914Z
LAST-MODIFIED:20260422T145914Z
STATUS:CONFIRMED
SEQUENCE:0
SUMMARY:phd seminar - Nathan Vieira
DTSTART:20240917T094500Z
DTEND:20240917T103000Z
DESCRIPTION:This paper documents the deadweight loss of the current short-t
 ime work scheme. I combine macroeconomic evidence and modelling to identify
  and quantify the effect of incentives to use the labor-market programme on
  employer-employee matching. By deriving an optimal short-time work policy\
 , I show that current schemes provide too strong incentives to reduce the n
 umber of hours worked\, resulting in lower output\, lower earnings and high
 er public expenditure. I propose reducing subsidies for hours not worked an
 d introducing subsidies for hours worked to offset the deadweight loss of s
 hort-time work schemes.\\n\\nContact: Philippine Escudié : philippine.esc
 udie[at]univ-amu.frLucie Giorgi : lucie.giorgi[at]univ-amu.frKla Kouadio : 
 kla.kouadio[at]univ-amu.frLola Soubeyrand : lola.soubeyrand[at]univ-amu.fr
 \n\nPlus d'informations: https://www.amse-aixmarseille.fr/fr/evenements/nat
 han-vieira
LOCATION:MEGA - Salle Carine Nourry\, 424\, Chemin du Viaduc\, 13080 Aix-en
 -Provence
URL;VALUE=URI:https://www.amse-aixmarseille.fr/fr/evenements/nathan-vieira
CONTACT:Philippine Escudié :&nbsp\;philippine.escudie[at]univ-amu.frLucie 
 Giorgi : lucie.giorgi[at]univ-amu.frKla Kouadio : kla.kouadio[at]univ-amu.f
 rLola Soubeyrand :&nbsp\;lola.soubeyrand[at]univ-amu.fr
TRANSP:OPAQUE
END:VEVENT
END:VCALENDAR
