BEGIN:VCALENDAR
VERSION:2.0
PRODID:-//AMSE//Event Calendar//FR
CALSCALE:GREGORIAN
METHOD:PUBLISH
BEGIN:VEVENT
UID:event-11346@www.amse-aixmarseille.fr
DTSTAMP:20260422T221636Z
CREATED:20260422T221636Z
LAST-MODIFIED:20260422T221636Z
STATUS:CONFIRMED
SEQUENCE:0
SUMMARY:phd seminar - Natalia Labrador*\, Ricardo Guzman**
DTSTART:20241119T100000Z
DTEND:20241119T113000Z
DESCRIPTION:*Do women and men adjust their labor supply differently in resp
 onse to short-term changes in precipitation and temperature? To explore thi
 s question\, I focus on the urban context of Colombia\, where heavy precipi
 tation and heat waves are becoming more frequent due to climate change. Usi
 ng monthly household survey data combined with daily weather information fr
 om climate reanalysis\, I examine key factors that may drive gender differe
 nces in labor responses\, including employment in climate-exposed industrie
 s\, outdoor work\, self-employment flexibility\, and family constraints. Mo
 st importantly\, I aim to shed light on how intrahousehold dynamics—such 
 as a partner’s employment status and the weather-exposure risks of their 
 occupation—affect individuals' labor decisions under extreme weather cond
 itions in urban settings.**For developing countries\, protecting the intell
 ectual property (IP) of critical technology represents a clear economic tra
 deoff. On one hand\, IP protection can induce the entry of new technologies
  and facilitate the transfer of technology from abroad. On the other hand\,
  it can raise prices and distort input choices for firms downstream. I empi
 rically evaluate this tradeoff between innovation and access in the context
  of a reform that introduced patent protection for seed varieties in Tanzan
 ia. I assemble a dataset combining information on registered seed varieties
 \, plant breeders\, and variety characteristics from government catalogues\
 , along with extensive plot-level data on agricultural inputs and outputs f
 rom a panel of farms. This enables me to estimate the impact of patent-indu
 ced innovation in seed varieties on patterns of input acquisition\, harvest
  revenues\, and agricultural productivity. To produce credible estimates\, 
 I rely on a shift-share design that leverages temporal variation in the ent
 ry of new seed varieties and spatial variation in crop suitability. Prelimi
 nary results suggest that exposure to new seed varieties\, on average\, led
  households to shift from informal to commercial seed sources and boosted r
 evenues from crop sales and crop output per hectare of land.\\n\\nContact: 
 Philippine Escudié : philippine.escudie[at]univ-amu.frLucie Giorgi : luci
 e.giorgi[at]univ-amu.frKla Kouadio : kla.kouadio[at]univ-amu.frLola Soubeyr
 and : lola.soubeyrand[at]univ-amu.fr\n\nPlus d'informations: https://www.a
 mse-aixmarseille.fr/fr/evenements/natalia-labrador-ricardo-guzman
LOCATION:Îlot Bernard du Bois - Salle 16\, AMU - AMSE\, 5-9 boulevard Maur
 ice Bourdet\, 13001 Marseille
URL;VALUE=URI:https://www.amse-aixmarseille.fr/fr/evenements/natalia-labrador-ricardo-guzman
CONTACT:Philippine Escudié :&nbsp\;philippine.escudie[at]univ-amu.frLucie 
 Giorgi : lucie.giorgi[at]univ-amu.frKla Kouadio : kla.kouadio[at]univ-amu.f
 rLola Soubeyrand :&nbsp\;lola.soubeyrand[at]univ-amu.fr
TRANSP:OPAQUE
END:VEVENT
END:VCALENDAR
