BEGIN:VCALENDAR
VERSION:2.0
PRODID:-//AMSE//Event Calendar//FR
CALSCALE:GREGORIAN
METHOD:PUBLISH
BEGIN:VEVENT
UID:event-11356@www.amse-aixmarseille.fr
DTSTAMP:20260422T223730Z
CREATED:20260422T223730Z
LAST-MODIFIED:20260422T223730Z
STATUS:CONFIRMED
SEQUENCE:0
SUMMARY:Eco-lunch - Ségal Le Guern Herry
DTSTART:20241114T113000Z
DTEND:20241114T123000Z
DESCRIPTION:\\n\\nContact: Nathalie Ferrière : nathalie.ferriere[at]scien
 cespo-aix.frFederico Trionfetti : federico.trionfetti[at]univ-amu.fr\n\nPl
 us d'informations: https://www.amse-aixmarseille.fr/fr/evenements/s%C3%A9ga
 l-le-guern-herry-1
LOCATION:MEGA
URL;VALUE=URI:https://www.amse-aixmarseille.fr/fr/evenements/s%C3%A9gal-le-guern-herry-1
CONTACT:Nathalie Ferrière :&nbsp\;nathalie.ferriere[at]sciencespo-aix.frFe
 derico Trionfetti :&nbsp\;federico.trionfetti[at]univ-amu.fr
TRANSP:OPAQUE
END:VEVENT
END:VCALENDAR
