BEGIN:VCALENDAR
VERSION:2.0
PRODID:-//AMSE//Event Calendar//FR
CALSCALE:GREGORIAN
METHOD:PUBLISH
BEGIN:VEVENT
UID:event-11360@www.amse-aixmarseille.fr
DTSTAMP:20260422T163342Z
CREATED:20260422T163342Z
LAST-MODIFIED:20260422T163342Z
STATUS:CONFIRMED
SEQUENCE:0
SUMMARY:finance seminar - Carolin Hoeltken
DTSTART:20240924T083000Z
DTEND:20240924T100000Z
DESCRIPTION:We analyse how risk attitude relates to capital market outcomes
  (capital market participation at the extensive and intensive margin as wel
 l as risky-asset portfolio allocation) in wife- and husband-headed househol
 ds. By using two measures of risk attitude combined––financial and gene
 ral-––we reduce measurement error and introduce a new notion into the h
 ousehold finance literature\, namely that financial risk aversion acts as a
  mediator variable for the link between general risk aversion and capital m
 arket participation. Overall\, we find that the interactions between the fi
 nancial head's gender\, risk attitudes\, and investment behaviour are more 
 complex than previously thought\, and that the average gender gap is often 
 driven by a sizeable gender gap in risk-loving rather than risk-averse hous
 eholds. We also discuss how different risk and return expectations between 
 female and male financial heads could explain our findings and report that 
 40 percent of the 10.57 pp gender gap could be down to gendered views on po
 tential Sharpe ratios.\\n\\nContact: Eric Girardin : eric.girardin[at]univ-
 amu.frGaël Leboeuf : gael.leboeuf[at]univ-amu.frChristelle Lecourt : chris
 telle.lecourt[at]univ-amu.fr\n\nPlus d'informations: https://www.amse-aixma
 rseille.fr/fr/evenements/carolin-hoeltken
LOCATION:MEGA
URL;VALUE=URI:https://www.amse-aixmarseille.fr/fr/evenements/carolin-hoeltken
CONTACT:Eric Girardin : eric.girardin[at]univ-amu.frGaël Leboeuf : gael.le
 boeuf[at]univ-amu.frChristelle Lecourt : christelle.lecourt[at]univ-amu.fr
TRANSP:OPAQUE
END:VEVENT
END:VCALENDAR
