BEGIN:VCALENDAR
VERSION:2.0
PRODID:-//AMSE//Event Calendar//FR
CALSCALE:GREGORIAN
METHOD:PUBLISH
BEGIN:VEVENT
UID:event-11434@www.amse-aixmarseille.fr
DTSTAMP:20260422T163246Z
CREATED:20260422T163246Z
LAST-MODIFIED:20260422T163246Z
STATUS:CONFIRMED
SEQUENCE:0
SUMMARY:conférences/workshops - EUROMOD Research Workshop 2024
DTSTART:20240926T063000Z
DTEND:20240927T120000Z
DESCRIPTION:Plus d'informations: https://www.amse-aixmarseille.fr/fr/evenem
 ents/euromod-research-workshop-2024
LOCATION:Îlot Bernard du Bois - Amphithéâtre\, AMU - AMSE\, 5-9 boulevar
 d Maurice Bourdet\, 13001 Marseille
URL;VALUE=URI:https://www.amse-aixmarseille.fr/fr/evenements/euromod-research-workshop-2024
TRANSP:OPAQUE
END:VEVENT
END:VCALENDAR
