BEGIN:VCALENDAR
VERSION:2.0
PRODID:-//AMSE//Event Calendar//FR
CALSCALE:GREGORIAN
METHOD:PUBLISH
BEGIN:VEVENT
UID:event-11443@www.amse-aixmarseille.fr
DTSTAMP:20260421T165320Z
CREATED:20260421T165320Z
LAST-MODIFIED:20260421T165320Z
STATUS:CONFIRMED
SEQUENCE:0
SUMMARY:enseignement - Afterwork - Banque Centrale Européenne
DTSTART:20240926T150000Z
DTEND:20240926T163000Z
DESCRIPTION:\\n\\nContact: communication[at]amse-aixmarseille.fr\n\nPlus d'
 informations: https://www.amse-aixmarseille.fr/fr/evenements/afterwork-banq
 ue-centrale-europ%C3%A9enne
LOCATION:Îlot Bernard du Bois - Salle 21\, AMU - AMSE\, 5-9 boulevard Maur
 ice Bourdet\, 13001 Marseille
URL;VALUE=URI:https://www.amse-aixmarseille.fr/fr/evenements/afterwork-banque-centrale-europ%C3%A9enne
CONTACT:communication[at]amse-aixmarseille.fr
TRANSP:OPAQUE
END:VEVENT
END:VCALENDAR
