BEGIN:VCALENDAR
VERSION:2.0
PRODID:-//AMSE//Event Calendar//FR
CALSCALE:GREGORIAN
METHOD:PUBLISH
BEGIN:VEVENT
UID:event-11482@www.amse-aixmarseille.fr
DTSTAMP:20260422T002407Z
CREATED:20260422T002407Z
LAST-MODIFIED:20260422T002407Z
STATUS:CONFIRMED
SEQUENCE:0
SUMMARY:Macro and labor market seminar - Zsófia L. Bárány
DTSTART:20250228T113000Z
DTEND:20250228T123000Z
DESCRIPTION:In this paper we develop and estimate a multi-sector general eq
 uilibrium growth model of education and sector-occupation choices over the
  life cycle. The model incorporates the task-based approach by representin
 g jobs in different sector-occupation pairs as different bundles of tasks\
 , requiring specific skill sets of workers. Workers are born with heterogen
 eous endowments of skills that can be improved over time by schooling and 
 on-the-job accumulation of human capital. We use data from several U.S. sou
 rces that allow us to estimate parameters that correspond to both the decis
 ion process of the individuals as well as the parameters that correspond t
 o the production side of the economy. The estimated GE model allows us  (
 1) to quantify the winners and losers from recent technological changes\, a
 s well as (2) to conduct policy counterfactuals that take full account of 
 the responses in the economy.\\n\\nContact: Marco Fongoni : marco.fongoni[a
 t]univ-amu.frAlexandros Loukas : alexandros.loukas[at]univ-amu.fr\n\nPlus d
 'informations: https://www.amse-aixmarseille.fr/fr/evenements/zs%C3%B3fia-l
 -b%C3%A1r%C3%A1ny
LOCATION:Îlot Bernard du Bois - Salle 17\, AMU - AMSE\, 5-9 boulevard Maur
 ice Bourdet\, 13001 Marseille
URL;VALUE=URI:https://www.amse-aixmarseille.fr/fr/evenements/zs%C3%B3fia-l-b%C3%A1r%C3%A1ny
CONTACT:Marco Fongoni : marco.fongoni[at]univ-amu.frAlexandros Loukas : ale
 xandros.loukas[at]univ-amu.fr
TRANSP:OPAQUE
END:VEVENT
END:VCALENDAR
