BEGIN:VCALENDAR
VERSION:2.0
PRODID:-//AMSE//Event Calendar//FR
CALSCALE:GREGORIAN
METHOD:PUBLISH
BEGIN:VEVENT
UID:event-11508@www.amse-aixmarseille.fr
DTSTAMP:20260421T212502Z
CREATED:20260421T212502Z
LAST-MODIFIED:20260421T212502Z
STATUS:CONFIRMED
SEQUENCE:0
SUMMARY:enseignement - Journée des métiers 2024
DTSTART:20241122T080000Z
DTEND:20241122T160000Z
DESCRIPTION:\\n\\nContact: infoecole[at]amse-aixmarseille.fr\n\nPlus d'info
 rmations: https://www.amse-aixmarseille.fr/fr/evenements/journ%C3%A9e-des-m
 %C3%A9tiers-2024
URL;VALUE=URI:https://www.amse-aixmarseille.fr/fr/evenements/journ%C3%A9e-des-m%C3%A9tiers-2024
CONTACT:infoecole[at]amse-aixmarseille.fr
TRANSP:OPAQUE
END:VEVENT
END:VCALENDAR
