BEGIN:VCALENDAR
VERSION:2.0
PRODID:-//AMSE//Event Calendar//FR
CALSCALE:GREGORIAN
METHOD:PUBLISH
BEGIN:VEVENT
UID:event-11511@www.amse-aixmarseille.fr
DTSTAMP:20260421T181228Z
CREATED:20260421T181228Z
LAST-MODIFIED:20260421T181228Z
STATUS:CONFIRMED
SEQUENCE:0
SUMMARY:policy lectures - Pierre-Cyrille Hautcoeur
DTSTART:20241107T170000Z
DTEND:20241107T190000Z
DESCRIPTION:Cette conférence s'interroge sur la place de l'histoire dans l
 a réflexion des économistes. J'y conteste que l'histoire soit essentielle
 ment un terrain de jeu dans lequel des données anciennes sont utilisées p
 our évaluer des théories\, et je souligne les limites des études de pers
 istance récemment auréolées de gloire. Je souhaite convaincre que l'hist
 oire comme discipline apporte des savoirs conceptuels et méthodologiques c
 omplémentaires de ceux de l'économiste et qui lui seraient indispensables
  y compris pour parler mieux du présent.\\n\\nContact: Gilles Dufrénot : 
 gilles.dufrenot[at]sciencespo-aix.frCéline Gimet : celine.gimet[at]scienc
 espo-aix.fr\n\nPlus d'informations: https://www.amse-aixmarseille.fr/fr/eve
 nements/pierre-cyrille-hautcoeur
LOCATION:Sciences Po Aix
URL;VALUE=URI:https://www.amse-aixmarseille.fr/fr/evenements/pierre-cyrille-hautcoeur
CONTACT:Gilles Dufrénot : gilles.dufrenot[at]sciencespo-aix.frCéline Gime
 t :&nbsp\;celine.gimet[at]sciencespo-aix.fr
TRANSP:OPAQUE
END:VEVENT
END:VCALENDAR
