BEGIN:VCALENDAR
VERSION:2.0
PRODID:-//AMSE//Event Calendar//FR
CALSCALE:GREGORIAN
METHOD:PUBLISH
BEGIN:VEVENT
UID:event-11519@www.amse-aixmarseille.fr
DTSTAMP:20260422T181658Z
CREATED:20260422T181658Z
LAST-MODIFIED:20260422T181658Z
STATUS:CONFIRMED
SEQUENCE:0
SUMMARY:conférences/workshops - Newcomers Welcome Day
DTSTART:20241004T100000Z
DTEND:20241004T163000Z
DESCRIPTION:AMSE organise une après-midi scientifique avec présentation d
 es travaux de recherche des nouveaux collègues.\\n\\nContact: communicatio
 n[at]amse-aixmarseille.fr\n\nPlus d'informations: https://www.amse-aixmarse
 ille.fr/fr/evenements/newcomers-welcome-day-1
LOCATION:Îlot Bernard du Bois - Amphithéâtre\, AMU - AMSE\, 5-9 boulevar
 d Maurice Bourdet\, 13001 Marseille
URL;VALUE=URI:https://www.amse-aixmarseille.fr/fr/evenements/newcomers-welcome-day-1
CONTACT:communication[at]amse-aixmarseille.fr
TRANSP:OPAQUE
END:VEVENT
END:VCALENDAR
