BEGIN:VCALENDAR
VERSION:2.0
PRODID:-//AMSE//Event Calendar//FR
CALSCALE:GREGORIAN
METHOD:PUBLISH
BEGIN:VEVENT
UID:event-11536@www.amse-aixmarseille.fr
DTSTAMP:20260421T211002Z
CREATED:20260421T211002Z
LAST-MODIFIED:20260421T211002Z
STATUS:CONFIRMED
SEQUENCE:0
SUMMARY:French-Japanese webinar - Peter Claeys
DTSTART:20241122T090000Z
DTEND:20241122T100000Z
DESCRIPTION:\\n\\nContact: Gilles Dufrénot : gilles.dufrenot[at]sciencespo
 -aix.frKiyotaka Sato : sato[at]ynu.ac.jp\n\nPlus d'informations: https://w
 ww.amse-aixmarseille.fr/fr/evenements/peter-claeys
URL;VALUE=URI:https://www.amse-aixmarseille.fr/fr/evenements/peter-claeys
CONTACT:Gilles Dufrénot : gilles.dufrenot[at]sciencespo-aix.frKiyotaka Sat
 o :&nbsp\;sato[at]ynu.ac.jp
TRANSP:OPAQUE
END:VEVENT
END:VCALENDAR
