BEGIN:VCALENDAR
VERSION:2.0
PRODID:-//AMSE//Event Calendar//FR
CALSCALE:GREGORIAN
METHOD:PUBLISH
BEGIN:VEVENT
UID:event-11540@www.amse-aixmarseille.fr
DTSTAMP:20260422T000625Z
CREATED:20260422T000625Z
LAST-MODIFIED:20260422T000625Z
STATUS:CONFIRMED
SEQUENCE:0
SUMMARY:French-Japanese webinar - Toshiaki Shoji
DTSTART:20241213T090000Z
DTEND:20241213T100000Z
DESCRIPTION:\\n\\nContact: Gilles Dufrénot : gilles.dufrenot[at]sciencespo
 -aix.frKiyotaka Sato : sato[at]ynu.ac.jp\n\nPlus d'informations: https://w
 ww.amse-aixmarseille.fr/fr/evenements/toshiaki-shoji
URL;VALUE=URI:https://www.amse-aixmarseille.fr/fr/evenements/toshiaki-shoji
CONTACT:Gilles Dufrénot : gilles.dufrenot[at]sciencespo-aix.frKiyotaka Sat
 o :&nbsp\;sato[at]ynu.ac.jp
TRANSP:OPAQUE
END:VEVENT
END:VCALENDAR
