BEGIN:VCALENDAR
VERSION:2.0
PRODID:-//AMSE//Event Calendar//FR
CALSCALE:GREGORIAN
METHOD:PUBLISH
BEGIN:VEVENT
UID:event-11571@www.amse-aixmarseille.fr
DTSTAMP:20260422T000527Z
CREATED:20260422T000527Z
LAST-MODIFIED:20260422T000527Z
STATUS:CONFIRMED
SEQUENCE:0
SUMMARY:Economic theory seminar - Stefan Ambec
DTSTART:20241213T110000Z
DTEND:20241213T120000Z
DESCRIPTION:\\n\\nContact: Jiakun Zheng : jiakun.zheng[at]univ-amu.fr\n\nP
 lus d'informations: https://www.amse-aixmarseille.fr/fr/evenements/stefan-a
 mbec
LOCATION:Îlot Bernard du Bois - Salle 15\, AMU - AMSE\, 5-9 boulevard Maur
 ice Bourdet\, 13001 Marseille
URL;VALUE=URI:https://www.amse-aixmarseille.fr/fr/evenements/stefan-ambec
CONTACT:Jiakun Zheng :&nbsp\;jiakun.zheng[at]univ-amu.fr
TRANSP:OPAQUE
END:VEVENT
END:VCALENDAR
