BEGIN:VCALENDAR
VERSION:2.0
PRODID:-//AMSE//Event Calendar//FR
CALSCALE:GREGORIAN
METHOD:PUBLISH
BEGIN:VEVENT
UID:event-11583@www.amse-aixmarseille.fr
DTSTAMP:20260421T165248Z
CREATED:20260421T165248Z
LAST-MODIFIED:20260421T165248Z
STATUS:CONFIRMED
SEQUENCE:0
SUMMARY:Practice job talks - Guillaume Bataille
DTSTART:20241107T133000Z
DTEND:20241107T144500Z
DESCRIPTION:\\n\\nContact: Timothée Demont : timothee.demont[at]univ-amu.f
 rPaolo Melindi-Ghidi : paolo.melindi-ghidi[at]univ-amu.fr\n\nPlus d'inform
 ations: https://www.amse-aixmarseille.fr/fr/evenements/guillaume-bataille-1
LOCATION:MEGA - Salle Carine Nourry\, 424\, Chemin du Viaduc\, 13080 Aix-en
 -Provence
URL;VALUE=URI:https://www.amse-aixmarseille.fr/fr/evenements/guillaume-bataille-1
CONTACT:Timothée Demont : timothee.demont[at]univ-amu.frPaolo Melindi-Ghid
 i :&nbsp\;paolo.melindi-ghidi[at]univ-amu.fr
TRANSP:OPAQUE
END:VEVENT
END:VCALENDAR
