BEGIN:VCALENDAR
VERSION:2.0
PRODID:-//AMSE//Event Calendar//FR
CALSCALE:GREGORIAN
METHOD:PUBLISH
BEGIN:VEVENT
UID:event-11587@www.amse-aixmarseille.fr
DTSTAMP:20260422T223637Z
CREATED:20260422T223637Z
LAST-MODIFIED:20260422T223637Z
STATUS:CONFIRMED
SEQUENCE:0
SUMMARY:Practice job talks - Inès Mourelon
DTSTART:20241119T133000Z
DTEND:20241119T144500Z
DESCRIPTION:\\n\\nContact: Timothée Demont : timothee.demont[at]univ-amu.f
 rPaolo Melindi-Ghidi : paolo.melindi-ghidi[at]univ-amu.fr\n\nPlus d'inform
 ations: https://www.amse-aixmarseille.fr/fr/evenements/in%C3%A8s-mourelon
LOCATION:Îlot Bernard du Bois - Salle 12\, AMU - AMSE\, 5-9 boulevard Maur
 ice Bourdet\, 13001 Marseille
URL;VALUE=URI:https://www.amse-aixmarseille.fr/fr/evenements/in%C3%A8s-mourelon
CONTACT:Timothée Demont : timothee.demont[at]univ-amu.frPaolo Melindi-Ghid
 i :&nbsp\;paolo.melindi-ghidi[at]univ-amu.fr
TRANSP:OPAQUE
END:VEVENT
END:VCALENDAR
