BEGIN:VCALENDAR
VERSION:2.0
PRODID:-//AMSE//Event Calendar//FR
CALSCALE:GREGORIAN
METHOD:PUBLISH
BEGIN:VEVENT
UID:event-11595@www.amse-aixmarseille.fr
DTSTAMP:20260422T223654Z
CREATED:20260422T223654Z
LAST-MODIFIED:20260422T223654Z
STATUS:CONFIRMED
SEQUENCE:0
SUMMARY:Practice job talks - Kenza Elass
DTSTART:20241121T133000Z
DTEND:20241121T144500Z
DESCRIPTION:\\n\\nContact: Timothée Demont : timothee.demont[at]univ-amu.f
 rPaolo Melindi-Ghidi : paolo.melindi-ghidi[at]univ-amu.fr\n\nPlus d'inform
 ations: https://www.amse-aixmarseille.fr/fr/evenements/kenza-elass-5
LOCATION:Îlot Bernard du Bois - Amphithéâtre\, AMU - AMSE\, 5-9 boulevar
 d Maurice Bourdet\, 13001 Marseille
URL;VALUE=URI:https://www.amse-aixmarseille.fr/fr/evenements/kenza-elass-5
CONTACT:Timothée Demont : timothee.demont[at]univ-amu.frPaolo Melindi-Ghid
 i :&nbsp\;paolo.melindi-ghidi[at]univ-amu.fr
TRANSP:OPAQUE
END:VEVENT
END:VCALENDAR
