BEGIN:VCALENDAR
VERSION:2.0
PRODID:-//AMSE//Event Calendar//FR
CALSCALE:GREGORIAN
METHOD:PUBLISH
BEGIN:VEVENT
UID:event-11613@www.amse-aixmarseille.fr
DTSTAMP:20260421T163133Z
CREATED:20260421T163133Z
LAST-MODIFIED:20260421T163133Z
STATUS:CONFIRMED
SEQUENCE:0
SUMMARY:enseignement - Afterwork - DAIA
DTSTART:20241024T160000Z
DTEND:20241024T170000Z
DESCRIPTION:\\n\\nContact: communication[at]amse-aixmarseille.fr\n\nPlus d'
 informations: https://www.amse-aixmarseille.fr/fr/evenements/afterwork-daia
URL;VALUE=URI:https://www.amse-aixmarseille.fr/fr/evenements/afterwork-daia
CONTACT:communication[at]amse-aixmarseille.fr
TRANSP:OPAQUE
END:VEVENT
END:VCALENDAR
