BEGIN:VCALENDAR
VERSION:2.0
PRODID:-//AMSE//Event Calendar//FR
CALSCALE:GREGORIAN
METHOD:PUBLISH
BEGIN:VEVENT
UID:event-11615@www.amse-aixmarseille.fr
DTSTAMP:20260421T181653Z
CREATED:20260421T181653Z
LAST-MODIFIED:20260421T181653Z
STATUS:CONFIRMED
SEQUENCE:0
SUMMARY:enseignement - Afterwork - Yakoota
DTSTART:20241107T170000Z
DTEND:20241107T180000Z
DESCRIPTION:\\n\\nContact: communication[at]amse-aixmarseille.fr\n\nPlus d'
 informations: https://www.amse-aixmarseille.fr/fr/evenements/afterwork-yako
 ota
URL;VALUE=URI:https://www.amse-aixmarseille.fr/fr/evenements/afterwork-yakoota
CONTACT:communication[at]amse-aixmarseille.fr
TRANSP:OPAQUE
END:VEVENT
END:VCALENDAR
