BEGIN:VCALENDAR
VERSION:2.0
PRODID:-//AMSE//Event Calendar//FR
CALSCALE:GREGORIAN
METHOD:PUBLISH
BEGIN:VEVENT
UID:event-11642@www.amse-aixmarseille.fr
DTSTAMP:20260421T223233Z
CREATED:20260421T223233Z
LAST-MODIFIED:20260421T223233Z
STATUS:CONFIRMED
SEQUENCE:0
SUMMARY:soutenances de thèse - Daniela Arlia
DTSTART:20241210T083000Z
DTEND:20241210T083000Z
DESCRIPTION:Plus d'informations: https://www.amse-aixmarseille.fr/fr/evenem
 ents/daniela-arlia-9
LOCATION:Îlot Bernard du Bois - Amphithéâtre\, AMU - AMSE\, 5-9 boulevar
 d Maurice Bourdet\, 13001 Marseille
URL;VALUE=URI:https://www.amse-aixmarseille.fr/fr/evenements/daniela-arlia-9
TRANSP:OPAQUE
END:VEVENT
END:VCALENDAR
