BEGIN:VCALENDAR
VERSION:2.0
PRODID:-//AMSE//Event Calendar//FR
CALSCALE:GREGORIAN
METHOD:PUBLISH
BEGIN:VEVENT
UID:event-11644@www.amse-aixmarseille.fr
DTSTAMP:20260421T223907Z
CREATED:20260421T223907Z
LAST-MODIFIED:20260421T223907Z
STATUS:CONFIRMED
SEQUENCE:0
SUMMARY:soutenances de thèse - Valentin Tissot
DTSTART:20241211T130000Z
DTEND:20241211T130000Z
DESCRIPTION:Plus d'informations: https://www.amse-aixmarseille.fr/fr/evenem
 ents/valentin-tissot-1
LOCATION:Îlot Bernard du Bois - Amphithéâtre\, AMU - AMSE\, 5-9 boulevar
 d Maurice Bourdet\, 13001 Marseille
URL;VALUE=URI:https://www.amse-aixmarseille.fr/fr/evenements/valentin-tissot-1
TRANSP:OPAQUE
END:VEVENT
END:VCALENDAR
