BEGIN:VCALENDAR
VERSION:2.0
PRODID:-//AMSE//Event Calendar//FR
CALSCALE:GREGORIAN
METHOD:PUBLISH
BEGIN:VEVENT
UID:event-11648@www.amse-aixmarseille.fr
DTSTAMP:20260422T000614Z
CREATED:20260422T000614Z
LAST-MODIFIED:20260422T000614Z
STATUS:CONFIRMED
SEQUENCE:0
SUMMARY:soutenances de thèse - Ababacar Sambe
DTSTART:20241220T130000Z
DTEND:20241220T130000Z
DESCRIPTION:Plus d'informations: https://www.amse-aixmarseille.fr/fr/evenem
 ents/ababacar-sambe
LOCATION:Îlot Bernard du Bois - Amphithéâtre\, AMU - AMSE\, 5-9 boulevar
 d Maurice Bourdet\, 13001 Marseille
URL;VALUE=URI:https://www.amse-aixmarseille.fr/fr/evenements/ababacar-sambe
TRANSP:OPAQUE
END:VEVENT
END:VCALENDAR
