BEGIN:VCALENDAR
VERSION:2.0
PRODID:-//AMSE//Event Calendar//FR
CALSCALE:GREGORIAN
METHOD:PUBLISH
BEGIN:VEVENT
UID:event-11681@www.amse-aixmarseille.fr
DTSTAMP:20260421T193759Z
CREATED:20260421T193759Z
LAST-MODIFIED:20260421T193759Z
STATUS:CONFIRMED
SEQUENCE:0
SUMMARY:enseignement - Afterwork - Octave Family Office
DTSTART:20241120T163000Z
DTEND:20241120T171500Z
DESCRIPTION:\\n\\nContact: communication[at]amse-aixmarseille.fr\n\nPlus d'
 informations: https://www.amse-aixmarseille.fr/fr/evenements/afterwork-octa
 ve-family-office
URL;VALUE=URI:https://www.amse-aixmarseille.fr/fr/evenements/afterwork-octave-family-office
CONTACT:communication[at]amse-aixmarseille.fr
TRANSP:OPAQUE
END:VEVENT
END:VCALENDAR
