BEGIN:VCALENDAR
VERSION:2.0
PRODID:-//AMSE//Event Calendar//FR
CALSCALE:GREGORIAN
METHOD:PUBLISH
BEGIN:VEVENT
UID:event-11706@www.amse-aixmarseille.fr
DTSTAMP:20260421T210854Z
CREATED:20260421T210854Z
LAST-MODIFIED:20260421T210854Z
STATUS:CONFIRMED
SEQUENCE:0
SUMMARY:economic philosophy seminar - Laura Talamante
DTSTART:20241202T150000Z
DTEND:20241202T170000Z
DESCRIPTION:\\n\\nContact: Feriel Kandil : feriel.kandil[at]univ-amu.frMir
 iam Teschl : miriam.teschl[at]ehess.fr\n\nPlus d'informations: https://www
 .amse-aixmarseille.fr/fr/evenements/laura-talamante
LOCATION:Îlot Bernard du Bois - Salle 15\, AMU - AMSE\, 5-9 boulevard Maur
 ice Bourdet\, 13001 Marseille
URL;VALUE=URI:https://www.amse-aixmarseille.fr/fr/evenements/laura-talamante
CONTACT:Feriel Kandil :&nbsp\;feriel.kandil[at]univ-amu.frMiriam Teschl :&n
 bsp\;miriam.teschl[at]ehess.fr
TRANSP:OPAQUE
END:VEVENT
END:VCALENDAR
