BEGIN:VCALENDAR
VERSION:2.0
PRODID:-//AMSE//Event Calendar//FR
CALSCALE:GREGORIAN
METHOD:PUBLISH
BEGIN:VEVENT
UID:event-11790@www.amse-aixmarseille.fr
DTSTAMP:20260423T154041Z
CREATED:20260423T154041Z
LAST-MODIFIED:20260423T154041Z
STATUS:CONFIRMED
SEQUENCE:0
SUMMARY:amse seminar - Nirvikar Jassal
DTSTART:20250428T093000Z
DTEND:20250428T104500Z
DESCRIPTION:Can the segregation of administrators and citizens based on eth
 nicity improve justice delivery for hate-crimes? I examine caste-specific 
 police stations in India\, i.e.\, staffed by and that cater solely to an e
 thnic category (Scheduled Caste/Tribe) to pursue charges against out-group
 s. Using an original individual-level dataset of roughly half a million cas
 es from 2017-2022\, I conduct difference-in-differences analyses to estima
 te the bodies’ impact on case filings. I apply machine learning on citiz
 en testimonies to uncover the content of hate-crime\, and employ qualitati
 ve research to explore how co-ethnic institutions operate on-the-ground. T
 o probe final outcomes\, I analyze 1.3 million judicial rulings. Marginaliz
 ed groups can face hate-crime\, including sexual violence perpetrated agai
 nst minority women by out-groups. Creating caste-only police enclaves gene
 rates mixed results\; while there is evidence of increased state recogniti
 on of hate-crimes\, and more complaints addressed by co-ethnic oﬀicers\,
  the effects are geographically limited. The institutions are not associate
 d with change in judicial outcomes for victims that pursue punishment agai
 nst perpetrators. Ethnicity-based segregation could offer some benefits fo
 r complainants at specific stages of seeking restitution\, but falls short
  of meaningfully altering the final justice that they receive.\\n\\nContact
 : Nicolas Clootens : nicolas.clootens[at]univ-amu.frRomain Ferrali : romain
 .ferrali[at]univ-amu.fr\n\nPlus d'informations: https://www.amse-aixmarseil
 le.fr/fr/evenements/nirvikar-jassal
LOCATION:Îlot Bernard du Bois - Amphithéâtre\, AMU - AMSE\, 5-9 boulevar
 d Maurice Bourdet\, 13001 Marseille
URL;VALUE=URI:https://www.amse-aixmarseille.fr/fr/evenements/nirvikar-jassal
CONTACT:Nicolas Clootens : nicolas.clootens[at]univ-amu.frRomain Ferrali : 
 romain.ferrali[at]univ-amu.fr
TRANSP:OPAQUE
END:VEVENT
END:VCALENDAR
