BEGIN:VCALENDAR
VERSION:2.0
PRODID:-//AMSE//Event Calendar//FR
CALSCALE:GREGORIAN
METHOD:PUBLISH
BEGIN:VEVENT
UID:event-12007@www.amse-aixmarseille.fr
DTSTAMP:20260422T002326Z
CREATED:20260422T002326Z
LAST-MODIFIED:20260422T002326Z
STATUS:CONFIRMED
SEQUENCE:0
SUMMARY:French-Japanese webinar - Nguyet Thi Khanh Cao
DTSTART:20250228T090000Z
DTEND:20250228T100000Z
DESCRIPTION:Using microdata from a survey conducted by the Japan Student Se
 rvices Organization\, I applied binary outcome models to investigate the de
 terminants of international students’ decision to remain in Japan to work
  after graduation. The empirical results showed that the most significant d
 eterminants of the students’ decision to permanently work in Japan were t
 he initial motivation of the students before moving to Japan\, the impressi
 on of Japanese people after moving to Japan\, and the length of time spent 
 living in Japan. Moreover\, the GDP gap between Japan and the home country\
 , having a part-time job\, and Japanese proficiency were found to be signif
 icant determinants of deciding to remain to work. The results of the presen
 t analyses suggest that to attract international students more efficiently 
 to Japan\, policymakers should carefully consider international students’
  motivation before moving to Japan and should ensure that international st
 udents enjoy their time in Japan.\\n\\nContact: Gilles Dufrénot : gilles.d
 ufrenot[at]sciencespo-aix.frKiyotaka Sato : sato[at]ynu.ac.jp\n\nPlus d'in
 formations: https://www.amse-aixmarseille.fr/fr/evenements/nguyet-thi-khanh
 -cao
URL;VALUE=URI:https://www.amse-aixmarseille.fr/fr/evenements/nguyet-thi-khanh-cao
CONTACT:Gilles Dufrénot : gilles.dufrenot[at]sciencespo-aix.frKiyotaka Sat
 o :&nbsp\;sato[at]ynu.ac.jp
TRANSP:OPAQUE
END:VEVENT
END:VCALENDAR
