BEGIN:VCALENDAR
VERSION:2.0
PRODID:-//AMSE//Event Calendar//FR
CALSCALE:GREGORIAN
METHOD:PUBLISH
BEGIN:VEVENT
UID:event-12009@www.amse-aixmarseille.fr
DTSTAMP:20260421T230510Z
CREATED:20260421T230510Z
LAST-MODIFIED:20260421T230510Z
STATUS:CONFIRMED
SEQUENCE:0
SUMMARY:big data and econometrics seminar - Edwin Fourrier-Nicolaï
DTSTART:20250311T130000Z
DTEND:20250311T143000Z
DESCRIPTION:This study examines the causal influence of digital technologie
 s\, specifically operational (ODT) and information digital technologies (ID
 T)\, on firms’ employment structure using Italian firm-level data. It emp
 loys a unique empirical approach\, constructing instrumental variables base
 d on predetermined employment composition and global technological progress
 \, proxied by patents. Findings indicate that IDT investment positively aff
 ects employment\, favoring a skilled\, IT competent workforce\, as supporte
 d by firms’ training and recruitment plans. Conversely\, ODT investment d
 oes not significantly alter total employment but skews the workforce toward
 s temporary contracts. The study contributes methodologically by distinguis
 hing between ODT and IDT and highlighting nuanced employment dynamics withi
 n firms.\\n\\nContact: Sullivan Hué : sullivan.hue[at]univ-amu.frMichel Lu
 brano : michel.lubrano[at]univ-amu.fr\n\nPlus d'informations: https://www.a
 mse-aixmarseille.fr/fr/evenements/edwin-fourrier-nicola%C3%AF-5
LOCATION:Îlot Bernard du Bois - Salle 21\, AMU - AMSE\, 5-9 boulevard Maur
 ice Bourdet\, 13001 Marseille
URL;VALUE=URI:https://www.amse-aixmarseille.fr/fr/evenements/edwin-fourrier-nicola%C3%AF-5
CONTACT:Sullivan Hué : sullivan.hue[at]univ-amu.frMichel Lubrano : michel.
 lubrano[at]univ-amu.fr
TRANSP:OPAQUE
END:VEVENT
END:VCALENDAR
