BEGIN:VCALENDAR
VERSION:2.0
PRODID:-//AMSE//Event Calendar//FR
CALSCALE:GREGORIAN
METHOD:PUBLISH
BEGIN:VEVENT
UID:event-12084@www.amse-aixmarseille.fr
DTSTAMP:20260421T135004Z
CREATED:20260421T135004Z
LAST-MODIFIED:20260421T135004Z
STATUS:CONFIRMED
SEQUENCE:0
SUMMARY:conférences/workshops - Prix de thèse «Carine Nourry»
DTSTART:20250526T093000Z
DTEND:20250526T104500Z
DESCRIPTION:\\n\\nContact: prixthesenourry[at]amse-aixmarseille.fr\n\nPlus 
 d'informations: https://www.amse-aixmarseille.fr/fr/evenements/prix-de-th%C
 3%A8se-%C2%ABcarine-nourry%C2%BB
LOCATION:Îlot Bernard du Bois - Amphithéâtre\, AMU - AMSE\, 5-9 boulevar
 d Maurice Bourdet\, 13001 Marseille
URL;VALUE=URI:https://www.amse-aixmarseille.fr/fr/evenements/prix-de-th%C3%A8se-%C2%ABcarine-nourry%C2%BB
CONTACT:prixthesenourry[at]amse-aixmarseille.fr
TRANSP:OPAQUE
END:VEVENT
END:VCALENDAR
