BEGIN:VCALENDAR
VERSION:2.0
PRODID:-//AMSE//Event Calendar//FR
CALSCALE:GREGORIAN
METHOD:PUBLISH
BEGIN:VEVENT
UID:event-12135@www.amse-aixmarseille.fr
DTSTAMP:20260421T110440Z
CREATED:20260421T110440Z
LAST-MODIFIED:20260421T110440Z
STATUS:CONFIRMED
SEQUENCE:0
SUMMARY:soutenances de thèse - Anastasiia Antonova
DTSTART:20250623T120000Z
DTEND:20250623T120000Z
DESCRIPTION:Plus d'informations: https://www.amse-aixmarseille.fr/fr/evenem
 ents/anastasiia-antonova
LOCATION:Îlot Bernard du Bois - Amphithéâtre\, AMU - AMSE\, 5-9 boulevar
 d Maurice Bourdet\, 13001 Marseille
URL;VALUE=URI:https://www.amse-aixmarseille.fr/fr/evenements/anastasiia-antonova
TRANSP:OPAQUE
END:VEVENT
END:VCALENDAR
