BEGIN:VCALENDAR
VERSION:2.0
PRODID:-//AMSE//Event Calendar//FR
CALSCALE:GREGORIAN
METHOD:PUBLISH
BEGIN:VEVENT
UID:event-12139@www.amse-aixmarseille.fr
DTSTAMP:20260421T122135Z
CREATED:20260421T122135Z
LAST-MODIFIED:20260421T122135Z
STATUS:CONFIRMED
SEQUENCE:0
SUMMARY:conférences/workshops - International Research Network IRN E3E - A
 telier scientifique
DTSTART:20250605T123000Z
DTEND:20250605T153000Z
DESCRIPTION:\\n\\nContact: Raouf Boucekkine : raouf.boucekkine[at]univ-amu.
 fr\n\nPlus d'informations: https://www.amse-aixmarseille.fr/fr/evenements/i
 nternational-research-network-irn-e3e-atelier-scientifique
LOCATION:Îlot Bernard du Bois - Salle 13\, AMU - AMSE\, 5-9 boulevard Maur
 ice Bourdet\, 13001 Marseille
URL;VALUE=URI:https://www.amse-aixmarseille.fr/fr/evenements/international-research-network-irn-e3e-atelier-scientifique
CONTACT:Raouf Boucekkine : raouf.boucekkine[at]univ-amu.fr
TRANSP:OPAQUE
END:VEVENT
END:VCALENDAR
