BEGIN:VCALENDAR
VERSION:2.0
PRODID:-//AMSE//Event Calendar//FR
CALSCALE:GREGORIAN
METHOD:PUBLISH
BEGIN:VEVENT
UID:event-12220@www.amse-aixmarseille.fr
DTSTAMP:20260421T120024Z
CREATED:20260421T120024Z
LAST-MODIFIED:20260421T120024Z
STATUS:CONFIRMED
SEQUENCE:0
SUMMARY:soutenances de thèse - Ernesto Ugolini
DTSTART:20250703T073000Z
DTEND:20250703T073000Z
DESCRIPTION:Plus d'informations: https://www.amse-aixmarseille.fr/fr/evenem
 ents/ernesto-ugolini-2
LOCATION:Îlot Bernard du Bois - Amphithéâtre\, AMU - AMSE\, 5-9 boulevar
 d Maurice Bourdet\, 13001 Marseille
URL;VALUE=URI:https://www.amse-aixmarseille.fr/fr/evenements/ernesto-ugolini-2
TRANSP:OPAQUE
END:VEVENT
END:VCALENDAR
