BEGIN:VCALENDAR
VERSION:2.0
PRODID:-//AMSE//Event Calendar//FR
CALSCALE:GREGORIAN
METHOD:PUBLISH
BEGIN:VEVENT
UID:event-12274@www.amse-aixmarseille.fr
DTSTAMP:20260421T153655Z
CREATED:20260421T153655Z
LAST-MODIFIED:20260421T153655Z
STATUS:CONFIRMED
SEQUENCE:0
SUMMARY:conférences/workshops - École thématique EcoComplex-BIODIV
DTSTART:20251117T090000Z
DTEND:20251121T130000Z
DESCRIPTION:\\n\\nContact: ecocomplex-2025[at]sciencesconf.org\n\nPlus d'in
 formations: https://www.amse-aixmarseille.fr/fr/evenements/%C3%A9cole-th%C3
 %A9matique-ecocomplex-biodiv
URL;VALUE=URI:https://www.amse-aixmarseille.fr/fr/evenements/%C3%A9cole-th%C3%A9matique-ecocomplex-biodiv
CONTACT:ecocomplex-2025[at]sciencesconf.org
TRANSP:OPAQUE
END:VEVENT
END:VCALENDAR
