BEGIN:VCALENDAR
VERSION:2.0
PRODID:-//AMSE//Event Calendar//FR
CALSCALE:GREGORIAN
METHOD:PUBLISH
BEGIN:VEVENT
UID:event-12293@www.amse-aixmarseille.fr
DTSTAMP:20260421T123249Z
CREATED:20260421T123249Z
LAST-MODIFIED:20260421T123249Z
STATUS:CONFIRMED
SEQUENCE:0
SUMMARY:enseignement - Journée de prérentrée et d'intégration des étud
 iants 2025
DTSTART:20250901T060000Z
DTEND:20250901T150000Z
DESCRIPTION:\\n\\nContact: infoecole[at]amse-aixmarseille.fr\n\nPlus d'info
 rmations: https://www.amse-aixmarseille.fr/fr/evenements/journ%C3%A9e-de-pr
 %C3%A9rentr%C3%A9e-et-dint%C3%A9gration-des-%C3%A9tudiants-2025
URL;VALUE=URI:https://www.amse-aixmarseille.fr/fr/evenements/journ%C3%A9e-de-pr%C3%A9rentr%C3%A9e-et-dint%C3%A9gration-des-%C3%A9tudiants-2025
CONTACT:infoecole[at]amse-aixmarseille.fr
TRANSP:OPAQUE
END:VEVENT
END:VCALENDAR
