BEGIN:VCALENDAR
VERSION:2.0
PRODID:-//AMSE//Event Calendar//FR
CALSCALE:GREGORIAN
METHOD:PUBLISH
BEGIN:VEVENT
UID:event-12297@www.amse-aixmarseille.fr
DTSTAMP:20260421T123249Z
CREATED:20260421T123249Z
LAST-MODIFIED:20260421T123249Z
STATUS:CONFIRMED
SEQUENCE:0
SUMMARY:conférences/workshops - Journée d'accueil des nouveaux arrivants 
 2025
DTSTART:20250919T090000Z
DTEND:20250919T163000Z
DESCRIPTION:\\n\\nContact: communication[at]amse-aixmarseille.fr\n\nPlus d'
 informations: https://www.amse-aixmarseille.fr/fr/evenements/journ%C3%A9e-d
 accueil-des-nouveaux-arrivants-2025
LOCATION:Îlot Bernard du Bois - Amphithéâtre\, AMU - AMSE\, 5-9 boulevar
 d Maurice Bourdet\, 13001 Marseille
URL;VALUE=URI:https://www.amse-aixmarseille.fr/fr/evenements/journ%C3%A9e-daccueil-des-nouveaux-arrivants-2025
CONTACT:communication[at]amse-aixmarseille.fr
TRANSP:OPAQUE
END:VEVENT
END:VCALENDAR
