BEGIN:VCALENDAR
VERSION:2.0
PRODID:-//AMSE//Event Calendar//FR
CALSCALE:GREGORIAN
METHOD:PUBLISH
BEGIN:VEVENT
UID:event-12299@www.amse-aixmarseille.fr
DTSTAMP:20260421T123249Z
CREATED:20260421T123249Z
LAST-MODIFIED:20260421T123249Z
STATUS:CONFIRMED
SEQUENCE:0
SUMMARY:enseignement - Cérémonie de remise des diplômes 2025
DTSTART:20251010T160000Z
DTEND:20251010T160000Z
DESCRIPTION:\\n\\nContact: infoecole[at]amse-aixmarseille.fr\n\nPlus d'info
 rmations: https://www.amse-aixmarseille.fr/fr/evenements/c%C3%A9r%C3%A9moni
 e-de-remise-des-dipl%C3%B4mes-2025
URL;VALUE=URI:https://www.amse-aixmarseille.fr/fr/evenements/c%C3%A9r%C3%A9monie-de-remise-des-dipl%C3%B4mes-2025
CONTACT:infoecole[at]amse-aixmarseille.fr
TRANSP:OPAQUE
END:VEVENT
END:VCALENDAR
