BEGIN:VCALENDAR
VERSION:2.0
PRODID:-//AMSE//Event Calendar//FR
CALSCALE:GREGORIAN
METHOD:PUBLISH
BEGIN:VEVENT
UID:event-12301@www.amse-aixmarseille.fr
DTSTAMP:20260421T170400Z
CREATED:20260421T170400Z
LAST-MODIFIED:20260421T170400Z
STATUS:CONFIRMED
SEQUENCE:0
SUMMARY:enseignement - Journée des métiers 2025
DTSTART:20251128T080000Z
DTEND:20251128T160000Z
DESCRIPTION:\\n\\nContact: infoecole[at]amse-aixmarseille.fr\n\nPlus d'info
 rmations: https://www.amse-aixmarseille.fr/fr/evenements/journ%C3%A9e-des-m
 %C3%A9tiers-2025
URL;VALUE=URI:https://www.amse-aixmarseille.fr/fr/evenements/journ%C3%A9e-des-m%C3%A9tiers-2025
CONTACT:infoecole[at]amse-aixmarseille.fr
TRANSP:OPAQUE
END:VEVENT
END:VCALENDAR
