BEGIN:VCALENDAR
VERSION:2.0
PRODID:-//AMSE//Event Calendar//FR
CALSCALE:GREGORIAN
METHOD:PUBLISH
BEGIN:VEVENT
UID:event-12341@www.amse-aixmarseille.fr
DTSTAMP:20260421T123228Z
CREATED:20260421T123228Z
LAST-MODIFIED:20260421T123228Z
STATUS:CONFIRMED
SEQUENCE:0
SUMMARY:enseignement - Programme de doctorat AMSE – Réunion de bienvenue
DTSTART:20250926T070000Z
DTEND:20250926T160000Z
DESCRIPTION:\\n\\nContact: Bernadette Vouriot : bernadette.vouriot[at]univ-
 amu.fr\n\nPlus d'informations: https://www.amse-aixmarseille.fr/fr/evenemen
 ts/programme-de-doctorat-amse-%E2%80%93-r%C3%A9union-de-bienvenue
LOCATION:MEGA
URL;VALUE=URI:https://www.amse-aixmarseille.fr/fr/evenements/programme-de-doctorat-amse-%E2%80%93-r%C3%A9union-de-bienvenue
CONTACT:Bernadette Vouriot : bernadette.vouriot[at]univ-amu.fr
TRANSP:OPAQUE
END:VEVENT
END:VCALENDAR
