BEGIN:VCALENDAR
VERSION:2.0
PRODID:-//AMSE//Event Calendar//FR
CALSCALE:GREGORIAN
METHOD:PUBLISH
BEGIN:VEVENT
UID:event-12345@www.amse-aixmarseille.fr
DTSTAMP:20260421T212129Z
CREATED:20260421T212129Z
LAST-MODIFIED:20260421T212129Z
STATUS:CONFIRMED
SEQUENCE:0
SUMMARY:conférences/workshops - The 10th Scientific Symposium of the AHEAD
  Research Network
DTSTART:20251211T130000Z
DTEND:20251212T133000Z
DESCRIPTION:\\n\\nContact: contactus.ahead[at]gmail.com\n\nPlus d'informati
 ons: https://www.amse-aixmarseille.fr/fr/evenements/10th-scientific-symposi
 um-ahead-research-network
LOCATION:Îlot Bernard du Bois - Salle 15\, AMU - AMSE\, 5-9 boulevard Maur
 ice Bourdet\, 13001 Marseille
URL;VALUE=URI:https://www.amse-aixmarseille.fr/fr/evenements/10th-scientific-symposium-ahead-research-network
CONTACT:contactus.ahead[at]gmail.com
TRANSP:OPAQUE
END:VEVENT
END:VCALENDAR
