BEGIN:VCALENDAR
VERSION:2.0
PRODID:-//AMSE//Event Calendar//FR
CALSCALE:GREGORIAN
METHOD:PUBLISH
BEGIN:VEVENT
UID:event-12366@www.amse-aixmarseille.fr
DTSTAMP:20260421T184018Z
CREATED:20260421T184018Z
LAST-MODIFIED:20260421T184018Z
STATUS:CONFIRMED
SEQUENCE:0
SUMMARY:Economic theory seminar - Laura Khoury
DTSTART:20251205T110000Z
DTEND:20251205T120000Z
DESCRIPTION:\\n\\nContact: Arthur Guillouzouic : arthur.guillouzouic-le-co
 rff[at]univ-amu.fr\n\nPlus d'informations: https://www.amse-aixmarseille.fr
 /fr/evenements/laura-khoury-1
LOCATION:Îlot Bernard du Bois - Salle 17\, AMU - AMSE\, 5-9 boulevard Maur
 ice Bourdet\, 13001 Marseille
URL;VALUE=URI:https://www.amse-aixmarseille.fr/fr/evenements/laura-khoury-1
CONTACT:Arthur Guillouzouic :&nbsp\;arthur.guillouzouic-le-corff[at]univ-am
 u.fr
TRANSP:OPAQUE
END:VEVENT
END:VCALENDAR
