BEGIN:VCALENDAR
VERSION:2.0
PRODID:-//AMSE//Event Calendar//FR
CALSCALE:GREGORIAN
METHOD:PUBLISH
BEGIN:VEVENT
UID:event-12372@www.amse-aixmarseille.fr
DTSTAMP:20260421T105304Z
CREATED:20260421T105304Z
LAST-MODIFIED:20260421T105304Z
STATUS:CONFIRMED
SEQUENCE:0
SUMMARY:amse seminar - Jérôme Valette
DTSTART:20250922T093000Z
DTEND:20250922T104500Z
DESCRIPTION:How does the electoral success of the far right affect the poli
 cy platforms of mainstream candidates? We answer this question by exploitin
 g the political shock of the Front National creation in 1972 and its sudden
  electoral breakthrough in the 1980s. Through a comprehensive textual analy
 sis of candidate manifestos in parliamentary elections from 1968 to 1997\, 
 we find that right-wing candidates respond to local far-right success by am
 plifying the salience of immigration in their manifestos\, framing it more 
 negatively\, and linking it to issues such as crime and the welfare state. 
 In contrast\, the ideological positions of left candidates do not shift in 
 response to far-right success. We show that the strategic adjustments of ri
 ght-wing candidates focus exclusively on immigration and help mitigate elec
 toral losses to far-right competitors.\\n\\nContact: Ségal Le Guern Herry 
 : segal.le-guern-herry[at]univ-amu.frMorgan Raux : morgan.raux[at]univ-am
 u.fr\n\nPlus d'informations: https://www.amse-aixmarseille.fr/fr/evenements
 /j%C3%A9r%C3%B4me-valette
LOCATION:Îlot Bernard du Bois - Salle 21\, AMU - AMSE\, 5-9 boulevard Maur
 ice Bourdet\, 13001 Marseille
URL;VALUE=URI:https://www.amse-aixmarseille.fr/fr/evenements/j%C3%A9r%C3%B4me-valette
CONTACT:Ségal Le Guern Herry :&nbsp\;segal.le-guern-herry[at]univ-amu.frMo
 rgan Raux :&nbsp\;morgan.raux[at]univ-amu.fr
TRANSP:OPAQUE
END:VEVENT
END:VCALENDAR
