BEGIN:VCALENDAR
VERSION:2.0
PRODID:-//AMSE//Event Calendar//FR
CALSCALE:GREGORIAN
METHOD:PUBLISH
BEGIN:VEVENT
UID:event-12382@www.amse-aixmarseille.fr
DTSTAMP:20260421T151504Z
CREATED:20260421T151504Z
LAST-MODIFIED:20260421T151504Z
STATUS:CONFIRMED
SEQUENCE:0
SUMMARY:amse seminar - Michele Belot
DTSTART:20251124T103000Z
DTEND:20251124T114500Z
DESCRIPTION:We design an online platform to connect unemployed job seekers 
 with `buddies'--former job seekers who recently found employment. We focus 
 on job seekers who search in occupations with poor prospects and buddies wh
 o successfully switched occupation. The platform allows job seekers and bud
 dies to connect and chat. In a randomized controlled trial\, we evaluate th
 e impact of access to the platform on labor market outcomes. We find sizabl
 e effects. Twelve to 18 months after getting access to the platform\, initi
 ally unemployed job seekers in the treatment group had a 6 percentage point
 s (11\\%) higher chance of being employed than those in the control group. 
 Cumulative over the 18-month period the treatment group earned 2185 EUR (11
 \\%) more. The positive impact is concentrated among the long-term unemploy
 ed.\\n\\nContact: Ségal Le Guern Herry : segal.le-guern-herry[at]univ-amu
 .frMorgan Raux : morgan.raux[at]univ-amu.fr\n\nPlus d'informations: https:
 //www.amse-aixmarseille.fr/fr/evenements/michele-belot-1
LOCATION:Îlot Bernard du Bois - Amphithéâtre\, AMU - AMSE\, 5-9 boulevar
 d Maurice Bourdet\, 13001 Marseille
URL;VALUE=URI:https://www.amse-aixmarseille.fr/fr/evenements/michele-belot-1
CONTACT:Ségal Le Guern Herry :&nbsp\;segal.le-guern-herry[at]univ-amu.frMo
 rgan Raux :&nbsp\;morgan.raux[at]univ-amu.fr
TRANSP:OPAQUE
END:VEVENT
END:VCALENDAR
