BEGIN:VCALENDAR
VERSION:2.0
PRODID:-//AMSE//Event Calendar//FR
CALSCALE:GREGORIAN
METHOD:PUBLISH
BEGIN:VEVENT
UID:event-12400@www.amse-aixmarseille.fr
DTSTAMP:20260422T002327Z
CREATED:20260422T002327Z
LAST-MODIFIED:20260422T002327Z
STATUS:CONFIRMED
SEQUENCE:0
SUMMARY:Eco-lunch - Gaëtan Fournier
DTSTART:20251211T110000Z
DTEND:20251211T120000Z
DESCRIPTION:Political campaigns influence how voters prioritize issues\, wh
 ich in turn impacts electoral outcomes. In this paper\, we study how candid
 ates’ communication shapes which issues prevail during the campaign\, thr
 ough which mechanisms\, and to what extent. We develop an electoral competi
 tion model with two candidates\, each endowed with exogenous platforms and 
 characteristics. Candidates allocate strategically their communication time
  across two issues to maximize their expected vote shares. We find that whe
 n one candidate holds similar comparative advantages on both issues\, the d
 isadvantaged candidate communicate on a single issue to saturate the campai
 gn with one topic and then increases the randomness of the election. The ad
 vantaged candidate has the opposite incentive and communicate on both issue
 s\, creating an asymmetry in the campaign. We show that in some cases\, the
  campaign can become entirely centered on a single issue.\\n\\nContact: Hou
 da Hafidi : houda.hafidi[at]sciencespo-aix.frFederico Trionfetti : federi
 co.trionfetti[at]univ-amu.fr\n\nPlus d'informations: https://www.amse-aixma
 rseille.fr/fr/evenements/ga%C3%ABtan-fournier-3
LOCATION:MEGA - Salle Carine Nourry\, 424\, Chemin du Viaduc\, 13080 Aix-en
 -Provence
URL;VALUE=URI:https://www.amse-aixmarseille.fr/fr/evenements/ga%C3%ABtan-fournier-3
CONTACT:Houda Hafidi :&nbsp\;houda.hafidi[at]sciencespo-aix.frFederico Trio
 nfetti :&nbsp\;federico.trionfetti[at]univ-amu.fr
TRANSP:OPAQUE
END:VEVENT
END:VCALENDAR
