BEGIN:VCALENDAR
VERSION:2.0
PRODID:-//AMSE//Event Calendar//FR
CALSCALE:GREGORIAN
METHOD:PUBLISH
BEGIN:VEVENT
UID:event-12420@www.amse-aixmarseille.fr
DTSTAMP:20260422T143521Z
CREATED:20260422T143521Z
LAST-MODIFIED:20260422T143521Z
STATUS:CONFIRMED
SEQUENCE:0
SUMMARY:phd seminar - Aliénor Bisantis*\, Matteo Santangelo Ravà**
DTSTART:20251104T100000Z
DTEND:20251104T111500Z
DESCRIPTION:*What explains the gender gap in academic careers? This paper s
 tudies the role of geographic mobility in shaping gender disparities. I use
  new administrative data from France linking the universe of PhD graduates 
 to application and hiring outcomes in public universities. First\, I show t
 hat women submit fewer applications\, over shorter distances\, and are more
  locally concentrated than men. Second\, I exploit exogenous variation in t
 he spatial distribution of job openings across disciplines to estimate t
 he causal effect of mobility on hiring. I find that reduced mobility lowers
  both the number of applications and the probability of securing a position
 . Overall\, these results suggest that geographic mobility constraints are 
 a key mechanism behind persistent gender inequality in academia.**Parental 
 beliefs\, especially expectations about the returns to early childhood inve
 stments\, are a key determinant of how families allocate time and resources
  to their children. This paper investigates how those beliefs update over t
 ime in response to (i) a parenting information intervention\, (ii) a labele
 d\, unconditional cash transfer (UCT)\, or (iii) their combination. We expl
 oit the Kizazi Kijacho RCT’s unique gender-targeting to study how both mo
 thers’ and fathers’ beliefs change depending on who receives the labele
 d transfer\, leveraging randomized assignment and repeated belief elicitati
 ons at the child’s age-1 and age-2 follow-ups to capture short- and mediu
 m-run dynamics. We also examine heterogeneity by baseline parental characte
 ristics (e.g.\, education\, resources\, prior beliefs) and explore belief-t
 o-behavior links by relating belief updates to measured parenting investmen
 ts and early child outcomes.\\n\\nContact: Alexandre Arnout : alexandre.arn
 out[at]univ-amu.frPhilippine Escudié : philippine.escudie[at]univ-amu.frA
 rmand Rigotti : armand.rigotti[at]univ-amu.fr\n\nPlus d'informations: http
 s://www.amse-aixmarseille.fr/fr/evenements/ali%C3%A9nor-bisantis-matteo-san
 tangelo-rav%C3%A0
LOCATION:Îlot Bernard du Bois - Amphithéâtre\, AMU - AMSE\, 5-9 boulevar
 d Maurice Bourdet\, 13001 Marseille
URL;VALUE=URI:https://www.amse-aixmarseille.fr/fr/evenements/ali%C3%A9nor-bisantis-matteo-santangelo-rav%C3%A0
CONTACT:Alexandre Arnout : alexandre.arnout[at]univ-amu.frPhilippine Escudi
 é :&nbsp\;philippine.escudie[at]univ-amu.frArmand Rigotti :&nbsp\;armand.r
 igotti[at]univ-amu.fr
TRANSP:OPAQUE
END:VEVENT
END:VCALENDAR
