BEGIN:VCALENDAR
VERSION:2.0
PRODID:-//AMSE//Event Calendar//FR
CALSCALE:GREGORIAN
METHOD:PUBLISH
BEGIN:VEVENT
UID:event-12424@www.amse-aixmarseille.fr
DTSTAMP:20260421T170619Z
CREATED:20260421T170619Z
LAST-MODIFIED:20260421T170619Z
STATUS:CONFIRMED
SEQUENCE:0
SUMMARY:phd seminar - Ricardo Guzman*\, Léo Loubradou**
DTSTART:20251125T100000Z
DTEND:20251125T111500Z
DESCRIPTION:*Low-income countries are increasingly establishing intellectua
 l property rights (IPR) for plant varieties as a means to encourage innovat
 ion in crop technologies. Whether such policies spur agricultural developme
 nt is unclear: On one hand\, IP protection can bring new crop technologies 
 to markets\, expanding the set of plant varieties with agronomic traits tha
 t benefit farms. On the other hand\, the policy can raise input prices and
  reshape informal markets for traditional seed. This paper studies these tr
 adeoffs in a context of a landmark reform that strengthened IP protection f
 or plant varieties in Tanzania. I first combine the universe of registered 
 plant varieties released in the national market with an event study to esta
 blish that IP protection brought in new plant varieties. I then estimate th
 e effect of the arrival of these patented technologies on agricultural outc
 omes using rich farm-level data and a shift-share design that leverages t
 he staggered release of new varieties and agro-climatic variation in crop s
 uitability across regions. I find that the policy lifted supply-side constr
 aints: a 1SD increase in exposure to patented technologies boosted adoption
  of improved varieties by 6.7 percentage points. However\, the resulting pr
 oductivity gains were unevenly distributed: the policy delivered higher yie
 lds\, crop revenues\, and profits for larger and better-connected farms\, 
 while small and remote farmers experienced little to no benefit. Supporting
  evidence points to two channels that explain the unequal gains from adopti
 on: rising seed prices in local markets and small farmers’ inability to a
 djust use of land\, labour\, and material inputs that complement new techno
 logies.**This paper investigates how European equity mutual funds strategic
 ally combine multiple sustainability-related signals (such as adopting sust
 ainability-themed names\, obtaining ESG labels\, or providing sustainabilit
 y-oriented disclosures) and how the adoption of these signals affects inves
 tor flows. While prior literature typically evaluates individual signals in
  isolation\, this study examines their interaction and potential diminishin
 g or complementary effects when adopted jointly. By doing this\, the study 
 contributes to a more granular understanding of sustainable fund signaling 
 strategies and provides a framework to assess how multiple sustainability c
 laims collectively shape market perception and capital allocation.\\n\\nCon
 tact: Alexandre Arnout : alexandre.arnout[at]univ-amu.frPhilippine Escudié
  : philippine.escudie[at]univ-amu.frArmand Rigotti : armand.rigotti[at]un
 iv-amu.fr\n\nPlus d'informations: https://www.amse-aixmarseille.fr/fr/evene
 ments/ricardo-guzman-l%C3%A9o-loubradou
LOCATION:MEGA - Salle Carine Nourry\, 424\, Chemin du Viaduc\, 13080 Aix-en
 -Provence
URL;VALUE=URI:https://www.amse-aixmarseille.fr/fr/evenements/ricardo-guzman-l%C3%A9o-loubradou
CONTACT:Alexandre Arnout : alexandre.arnout[at]univ-amu.frPhilippine Escudi
 é :&nbsp\;philippine.escudie[at]univ-amu.frArmand Rigotti :&nbsp\;armand.r
 igotti[at]univ-amu.fr
TRANSP:OPAQUE
END:VEVENT
END:VCALENDAR
