BEGIN:VCALENDAR
VERSION:2.0
PRODID:-//AMSE//Event Calendar//FR
CALSCALE:GREGORIAN
METHOD:PUBLISH
BEGIN:VEVENT
UID:event-12436@www.amse-aixmarseille.fr
DTSTAMP:20260421T122129Z
CREATED:20260421T122129Z
LAST-MODIFIED:20260421T122129Z
STATUS:CONFIRMED
SEQUENCE:0
SUMMARY:finance seminar - Yizhe Dong
DTSTART:20251014T083000Z
DTEND:20251014T100000Z
DESCRIPTION:\\n\\nContact: Eric Girardin : eric.girardin[at]univ-amu.frGaë
 l Leboeuf : gael.leboeuf[at]univ-amu.frChristelle Lecourt : christelle.leco
 urt[at]univ-amu.fr\n\nPlus d'informations: https://www.amse-aixmarseille.fr
 /fr/evenements/yizhe-dong
LOCATION:MEGA
URL;VALUE=URI:https://www.amse-aixmarseille.fr/fr/evenements/yizhe-dong
CONTACT:Eric Girardin : eric.girardin[at]univ-amu.frGaël Leboeuf : gael.le
 boeuf[at]univ-amu.frChristelle Lecourt : christelle.lecourt[at]univ-amu.fr
TRANSP:OPAQUE
END:VEVENT
END:VCALENDAR
