BEGIN:VCALENDAR
VERSION:2.0
PRODID:-//AMSE//Event Calendar//FR
CALSCALE:GREGORIAN
METHOD:PUBLISH
BEGIN:VEVENT
UID:event-12444@www.amse-aixmarseille.fr
DTSTAMP:20260421T110417Z
CREATED:20260421T110417Z
LAST-MODIFIED:20260421T110417Z
STATUS:CONFIRMED
SEQUENCE:0
SUMMARY:economic philosophy seminar - Salim Abdelmadjid
DTSTART:20250922T140000Z
DTEND:20250922T160000Z
DESCRIPTION:Dans cette séance\, nous demanderons comment l'élaboration du
  concept philosophique d'une aire requiert l'économie. Pour y répondre\, 
 nous appliquerons cette question au cas de l'Afrique.\\n\\nContact: Feriel 
 Kandil : feriel.kandil[at]univ-amu.frMiriam Teschl : miriam.teschl[at]ehe
 ss.fr\n\nPlus d'informations: https://www.amse-aixmarseille.fr/fr/evenement
 s/salim-abdelmadjid-1
LOCATION:Îlot Bernard du Bois - Salle 15\, AMU - AMSE\, 5-9 boulevard Maur
 ice Bourdet\, 13001 Marseille
URL;VALUE=URI:https://www.amse-aixmarseille.fr/fr/evenements/salim-abdelmadjid-1
CONTACT:Feriel Kandil :&nbsp\;feriel.kandil[at]univ-amu.frMiriam Teschl :&n
 bsp\;miriam.teschl[at]ehess.fr
TRANSP:OPAQUE
END:VEVENT
END:VCALENDAR
